BEGIN:VCALENDAR
VERSION:2.0
PRODID:-//KOHLFÜRST Online Marketing - ECPv6.15.20//NONSGML v1.0//EN
CALSCALE:GREGORIAN
METHOD:PUBLISH
X-ORIGINAL-URL:https://www.kohlfuerst.at
X-WR-CALDESC:Veranstaltungen für KOHLFÜRST Online Marketing
REFRESH-INTERVAL;VALUE=DURATION:PT1H
X-Robots-Tag:noindex
X-PUBLISHED-TTL:PT1H
BEGIN:VTIMEZONE
TZID:Europe/Vienna
BEGIN:DAYLIGHT
TZOFFSETFROM:+0100
TZOFFSETTO:+0200
TZNAME:CEST
DTSTART:20210328T010000
END:DAYLIGHT
BEGIN:STANDARD
TZOFFSETFROM:+0200
TZOFFSETTO:+0100
TZNAME:CET
DTSTART:20211031T010000
END:STANDARD
BEGIN:DAYLIGHT
TZOFFSETFROM:+0100
TZOFFSETTO:+0200
TZNAME:CEST
DTSTART:20220327T010000
END:DAYLIGHT
BEGIN:STANDARD
TZOFFSETFROM:+0200
TZOFFSETTO:+0100
TZNAME:CET
DTSTART:20221030T010000
END:STANDARD
BEGIN:DAYLIGHT
TZOFFSETFROM:+0100
TZOFFSETTO:+0200
TZNAME:CEST
DTSTART:20230326T010000
END:DAYLIGHT
BEGIN:STANDARD
TZOFFSETFROM:+0200
TZOFFSETTO:+0100
TZNAME:CET
DTSTART:20231029T010000
END:STANDARD
BEGIN:DAYLIGHT
TZOFFSETFROM:+0100
TZOFFSETTO:+0200
TZNAME:CEST
DTSTART:20240331T010000
END:DAYLIGHT
BEGIN:STANDARD
TZOFFSETFROM:+0200
TZOFFSETTO:+0100
TZNAME:CET
DTSTART:20241027T010000
END:STANDARD
BEGIN:DAYLIGHT
TZOFFSETFROM:+0100
TZOFFSETTO:+0200
TZNAME:CEST
DTSTART:20250330T010000
END:DAYLIGHT
BEGIN:STANDARD
TZOFFSETFROM:+0200
TZOFFSETTO:+0100
TZNAME:CET
DTSTART:20251026T010000
END:STANDARD
BEGIN:DAYLIGHT
TZOFFSETFROM:+0100
TZOFFSETTO:+0200
TZNAME:CEST
DTSTART:20260329T010000
END:DAYLIGHT
BEGIN:STANDARD
TZOFFSETFROM:+0200
TZOFFSETTO:+0100
TZNAME:CET
DTSTART:20261025T010000
END:STANDARD
END:VTIMEZONE
BEGIN:VEVENT
DTSTART;TZID=Europe/Vienna:20251008T080000
DTEND;TZID=Europe/Vienna:20251009T170000
DTSTAMP:20260422T141725
CREATED:20250728T091050Z
LAST-MODIFIED:20250728T091050Z
UID:11839-1759910400-1760029200@www.kohlfuerst.at
SUMMARY:Mobility Forum Salzburg
DESCRIPTION:
URL:https://www.kohlfuerst.at/veranstaltung/mobility-forum-salzburg/
LOCATION:MOONCITY Salzburg\, Sterneckstraße 28\, Salzburg\, 5020\, Austria
ATTACH;FMTTYPE=image/png:https://www.kohlfuerst.at/wp-content/uploads/Mobility_Forum_Salzburg_Logo1.png
END:VEVENT
BEGIN:VEVENT
DTSTART;TZID=Europe/Vienna:20241001T090000
DTEND;TZID=Europe/Vienna:20241001T160000
DTSTAMP:20260422T141725
CREATED:20150914T191412Z
LAST-MODIFIED:20231105T161540Z
UID:9854-1727773200-1727798400@www.kohlfuerst.at
SUMMARY:Karriereforum Salzburg
DESCRIPTION:Machen Sie es sich bequem in unserem Social Media Bereich und diskutieren Sie mit Profis über Ihre aktuelle Bewerber Präsenz in Sozialen Medien oder die perfekte eigene Webseite. Dabei stehen Themen wie das Monitoring von Informationen im Web\, positive Einflussnahme auf die eigene Online-Reputation auf Jobportalen\, Xing\, LinkedIn & Co sowie Themen rund um Suchen und Finden im Internet auf der Agenda. \nBeim Social Media Quick-Check des Karriereforums Salzburg werden Sie von 9:00 – 16:00 als BewerberIn unter die Lupe genommen. Andrea Starzer & Michael Kohlfürst von PromoMasters Online Marketing helfen Ihnen bei Ihrem optimalen Karriere-Auftritt im Internet. Starzer und Kohlfürst analysieren Ihre derzeitige Auffindbarkeit im Internet und geben Tipps wie Sie ein optimales Ergebnis erreichen. \nDen Stand von PromoMasters finden Sie im Konferenz Saal \nDas Karriereforum bietet noch weitere Services für Ihren Erfolg. \nBesuchen Sie doch auch das Karriereforum in Linz. Wir sehen uns.
URL:https://www.kohlfuerst.at/veranstaltung/karriereforum-salzburg/
LOCATION:Kongresshaus Salzburg\, Auerspergstraße 6\, Salzburg\, 5020\, Österreich
ATTACH;FMTTYPE=image/jpeg:https://www.kohlfuerst.at/wp-content/uploads/2015/09/karriereforum.jpg
ORGANIZER;CN="PromoMasters Online Marketing":MAILTO:info@promomasters.at
END:VEVENT
BEGIN:VEVENT
DTSTART;TZID=Europe/Vienna:20240228T090000
DTEND;TZID=Europe/Vienna:20240228T120000
DTSTAMP:20260422T141725
CREATED:20231105T152348Z
LAST-MODIFIED:20231105T155736Z
UID:11725-1709110800-1709121600@www.kohlfuerst.at
SUMMARY:Google for Jobs Seminar
DESCRIPTION:Google for Jobs Seminar - Webinar in Zoom			\n			\n					\n	\n\n\n\n\n\n\n\n\n\n\n\n\nEntdecken Sie die Geheimnisse von Google for Jobs – Ihr Wegweiser zum Erfolg im digitalen Recruiting \nBereit\, die Auffindbarkeit Ihrer Stellenanzeigen zu revolutionieren? Unser Einsteigerseminar in Google for Jobs bietet Ihnen das nötige Know-how\, um Ihre Jobangebote und Employer Branding effektiv im digitalen Zeitalter zu positionieren. Ob Sie im Personalmarketing tätig\, UnternehmerIn oder für die Pflege der Unternehmenswebsite zuständig sind – dieses Seminar bietet Ihnen die Antworten\, die Sie suchen. \nKerninhalte des Seminars\n\nEinführung in Google for Jobs:\n\nVerstehen\, wie es Bewerbern\, Arbeitgebern und Suchmaschinen zugutekommt.\n\n\nImplementierung:\n\nLernen Sie\, wie Sie Google for Jobs über verschiedene Kanäle integrieren können – ob durch Dienstleister\, Plattformen oder direkt auf Ihrer eigenen Webseite.\n\n\nErfolgsanalyse und Optimierung:\n\nErfahren Sie\, wie Sie Ihre Präsenz bei Google for Jobs überwachen und verbessern können.\n\n\nInteraktiver Austausch:\n\nStellen Sie Ihre Fragen und erhalten Sie klare Antworten.\n\n\n\nIhr Dozent\nMichael Kohlfürst\, ein renommierter SEO-Experte und Gründer von PromoMasters Online Marketing\, teilt sein tiefgreifendes Fachwissen mit Ihnen. Profitieren Sie von seiner umfassenden SEO-Expertise und Google-Zertifizierung. \nHäufig gestellte Fragen\nWir klären essenzielle Fragen rund um Google for Jobs\, wie: \n\nWas genau ist Google for Jobs und wie kann es Ihre Rekrutierungsbemühungen unterstützen?\nWelche einzigartigen Vorteile bietet es Ihrem Unternehmen?\nWie stellen Sie sicher\, dass Ihre Stellenanzeigen optimal sichtbar sind?\n\nFür wen ist dieses Seminar gedacht?\nKeine Vorkenntnisse? Kein Problem! Unser Basis-Seminar richtet sich an HR-Fachleute und Personalmarketing-Experten\, die ohne Vorwissen in die Welt von Google for Jobs eintauchen möchten. \nDatum\, Zeit und Teilnahmebedingungen\n\nTermine:\n\n28.02.2024 – 09:00-12:00\n23.05.2024 – 09:00-12:00\n(Weitere Termine und Inhouse-Schulungen auf Anfrage)\n\n\nFormat:\n\nLive-Interaktion via Zoom\, mit begrenzten Plätzen für eine intensive Lernerfahrung.\n\n\nInvestition:\n\nNur EUR 299\,- pro Person\, exkl. MwSt.\n\n\n\nBuchen Sie Ihren Platz: \n\nMelden Sie sich bei PromoMasters an\nOder fordern Sie einen Inhouse-Workshop an.\n\nBestätigung und Rechnung: Nach der Buchung erhalten Sie eine Bestätigung sowie eine Rechnung von PromoMasters Online Marketing Ges.m.b.H. \n–
URL:https://www.kohlfuerst.at/veranstaltung/google-for-jobs-seminar/
LOCATION:PromoMasters Salzburg\, Urstein Süd 15\, Puch\, Salzburg\, 5412\, Österreich
ATTACH;FMTTYPE=image/png:https://www.kohlfuerst.at/wp-content/uploads/google-for-jobs-seminar.png
ORGANIZER;CN="PromoMasters Online Marketing":MAILTO:info@promomasters.at
END:VEVENT
BEGIN:VEVENT
DTSTART;TZID=Europe/Vienna:20240225T160000
DTEND;TZID=Europe/Vienna:20240225T190000
DTSTAMP:20260422T141725
CREATED:20180217T100003Z
LAST-MODIFIED:20231105T160531Z
UID:11118-1708876800-1708887600@www.kohlfuerst.at
SUMMARY:CONSTANTINUS Einreicher-Workshop 2024
DESCRIPTION:CONSTANTINUS Einreicher-Workshop 2024			\n			\n					\n	\nMit dem CONSTANTINUS Einreicher-Workshop 2024 Ihre Projekte zum UBIT Branchen-Oskar einreichen. Der CONSTANTINUS Award ist der Österreichische Branchen Oskar der Fachruppe UBIT – Unternehmensberatung und IT. \nTipps zum richtigen Einreichen gibt es von den CONSTANTINUS-Preisträgern Michael Kohlfürst\, MBA CMC\, und Alexander Kirchgasser beim Einreicher-Workshop am 27. Februar von 16.00 bis 19.00 Uhr im WIFI Salzburg. Die Einladung der Wirtschaftskammer Salzburg – Nutzen Sie die Gelegenheit\, Ihre Einreichung erfolgreich zu gestalten und damit die Basis für eine Auszeichnung beim CONSTANTINUS 2020 zu legen! Anmeldung per E-Mail an mlechner@wks.at (Pflicht). \nUBIT fördert Einreichgebühren zu 100 %\nDer Constantinus wird in neun Kategorien vergeben: Industrie 4.0/Internet of Things\, Informationstechnologie\, Internationale Projekte\, Management Consulting\, Mobile Apps\, Personal & Training\, Standardsoftware & Cloud Services\, ProEthik und Soziale Verantwortung und Buchhaltung und Finanzen. Die Fachgruppe fördert die Einreichung von Salzburger Bewerbern mit 100 Prozent der Teilnahmegebühr von 190 Euro pro Projekt und jede weitere Projekteinreichung mit 50 Prozent. \nDer Workshop findet am 27. Februar 2022 von 16.00 bis ca. 19.00 Uhr statt. Die Teilnahme ist kostenlos. \nMichael Kohlfürst freut sich auf Ihre Teilnahme. Informationen der Fachgruppe UBIT zum Einreicher Workshop.
URL:https://www.kohlfuerst.at/veranstaltung/constantinus/
LOCATION:Salzburg
ATTACH;FMTTYPE=image/jpeg:https://www.kohlfuerst.at/wp-content/uploads/Einreicher-Workshop-Salzburg-Michael-Kohlfürst.jpg
ORGANIZER;CN="UBIT Salzburg - Wirtschaftskammer":MAILTO:ubit@wks.at
END:VEVENT
BEGIN:VEVENT
DTSTART;TZID=Europe/Vienna:20231002T090000
DTEND;TZID=Europe/Vienna:20231002T130000
DTSTAMP:20260422T141725
CREATED:20230201T153021Z
LAST-MODIFIED:20230201T153524Z
UID:9825-1696237200-1696251600@www.kohlfuerst.at
SUMMARY:Google AdWords Seminar
DESCRIPTION:Für Einsteiger: Sie möchten selbst erfolgreiche Google AdWords Werbe-Anzeigen schalten? Sie möchten Google AdWords besser verstehen? Sie möchten prüfen wie gut Ihre AdWords Agentur arbeitet? Dann sind Sie in unserem Google AdWords Seminar genau richtig.  \nSeminar Google AdWords – der Überblick\nIn diesem Google AdWords Seminar für Einsteiger lernen Sie die erfolgreiche Schaltung von Anzeigen bei Google und dessen Netzwerk. Wir bieten jedoch auch die Leistungen als AdWords Agentur an wenn Sie nicht selbst tätig sein möchten. \nSie erhalten das nötige Rüstzeug: Im AdWords Kurs werden wir Keywords und Anzeigen sowie Kampagnen und Anzeigengruppen planen und erstellen sowie deren Erfolge auswerten. Sie richten Ihre Werbung so mehr und mehr nach potentiellen Kunden\, die sich bereits für Ihre Produkte im Internet am Computer PC\, Laptop oder Mobil am Smartphone interessieren. \nGoogle AdWords erklärt in 2 Minuten (Video) \n \nAls zertifizierter Google AdWords Premium Partner bietet Ihnen die PromoMasters Academy für Online Marketing einen AdWords Basic Workshop für Einsteiger. Sie lernen beispielsweise: \n\nWas ist Suchmaschinenwerbung mit Google AdWords?\nWie funktioniert es?\nFür welche Einsatzgebiete können Sie Google AdWords verwenden?\nWie kann ich Regional Werbung schalten?\nWie kann ich Anzeigen für Mobilgeräte schalten?\nWoher kommen Google Shopping Anzeigen?\nWie werte ich meine Erfolge aus?\n€ 200 ADWORDS GUTSCHEIN für Ihre erste Kampagne\n\n\n		\n							\n						\n				\nSeminar Termine			\n			\n					\n	\nMontag\, 02. Oktober 2017 von 09:00 bis 13:00 Uhr in Salzburg. Im Anschluss an das Seminar nehmen wir uns gerne Zeit\, um Ihre direkten Anliegen aus dem Bereich zu besprechen.\n\n		\n							\n						\n				Jetzt Ihren Seminar Platz sichern			\n			\n					\n	[contact-form-7 id=““ title=“BESTELLUNG SEMINAR“] \n[/contact-form-7]\n\n	\n		Preis\n		\n			\n				\n					\n						€299\n					\n					½ Tag\n				\n			\n\n			\n				\n\nIhr reservierter Platz\nSeminarunterlagen\nKaffeepausen\n\n			\n			\n				299 				Bestellen			\n		\n	\n\n		\n							\n						\n				PromoMasters Online Marketing - Salzburg			\n			\n					\n	\n\nBuchen Sie jetzt gleich Ihren Google AdWords Workshop-Platz (Maximal 12 Teilnehmer pro Kurs)
URL:https://www.kohlfuerst.at/veranstaltung/adwords-seminar/
LOCATION:PromoMasters Salzburg\, Urstein Süd 15\, Puch\, Salzburg\, 5412\, Österreich
ATTACH;FMTTYPE=image/png:https://www.kohlfuerst.at/wp-content/uploads/2016/10/google-adwords-icon.png
ORGANIZER;CN="PromoMasters Online Marketing":MAILTO:info@promomasters.at
END:VEVENT
BEGIN:VEVENT
DTSTART;TZID=Europe/Vienna:20230307T090000
DTEND;TZID=Europe/Vienna:20230307T160000
DTSTAMP:20260422T141725
CREATED:20200209T160311Z
LAST-MODIFIED:20230223T152333Z
UID:11498-1678179600-1678204800@www.kohlfuerst.at
SUMMARY:Karriereforum Linz
DESCRIPTION:Karriereforum Linz der Oberösterreichischen Nachrichten \nMichael Kohlfürst und Andrea Starzer geben Bewerbern / Besuchern Tipps für eine bessere Auffindbarkeit im Internet. Zusätzlich gibt es einen Vortrag mit Andrea Starzer „Der erste Eindruck zählt“ zur Optimierung von LinkedIn und XING. \nAnmeldung zur kostenlose Teilnahme an der www.karriereforum.eu Karrieremesse Linz. \nBesuchen Sie auch das Karriereforum Salzburg welches auch jedes Jahr stattfindet.
URL:https://www.kohlfuerst.at/veranstaltung/karriereforum-linz/
LOCATION:Linz\, Landstraße 49\, Linz\, 4020\, Österreich
ATTACH;FMTTYPE=image/jpeg:https://www.kohlfuerst.at/wp-content/uploads/2015/09/karriereforum.jpg
ORGANIZER;CN="Salzburger Nachrichten":MAILTO:thomas.ritter@sn.at
END:VEVENT
BEGIN:VEVENT
DTSTART;TZID=Europe/Vienna:20221202T090000
DTEND;TZID=Europe/Vienna:20221202T170000
DTSTAMP:20260422T141725
CREATED:20211220T194042Z
LAST-MODIFIED:20211220T194300Z
UID:9851-1669971600-1670000400@www.kohlfuerst.at
SUMMARY:Suchmaschinen Optimierung Seminar
DESCRIPTION:Suchmaschinenoptimierung (SEO) umfaßt Maßnahmen zur besseren Auffindbarkeit bei Suchmaschinen. Hierzu gehören Basis Elemente die unverändert bleiben\, aber auch permanente Entwicklungen. \nSind Sie noch zu finden? Oder hat Ihre Website im Google Ranking den Anschluss verloren? \nSuchmaschinenoptimierung (SEO)\, also die Verbesserung der Auffindbarkeit im Internet\, entwickelt sich permanent weiter. Aktuelles Wissen über wirksame Maßnahmen ist deshalb ein entscheidender Vorteil im Wettstreit um die besten Positionen. Dieses Seminar der PromoMasters Academy bringt Sie auf den neusten Stand und bietet Ihnen einen praxisnahen Einstieg in die Suchmaschinenoptimierung. \nIhr Vortragender\, Michael Kohlfürst CMC\, ist Gründer und in der Geschäftsleitung von PromoMasters Online Marketing und verfügt über mehr als 15 Jahre Erfahrung als SEO- und Internetspezialist.\n		\n							\n						\n				\nDas Seminar			\n			\n					\n	\n\n					Zielgruppe des Seminars\n					Das Seminar Suchmaschinenoptimierung richtet sich an Marketing-Verantwortliche\, Website- und Online Shop-Betreiber sowie alle\, die die Auffindbarkeit ihres Angebotes im Internet verbessern wollen. \nFür dieses 1-Tages Seminar sind keine Vorkenntnisse nötig.\n					\n					Inhalte des SEO Seminars\n					\n\nSuchmaschinen: Wie funktionieren Google\, Bing und Yahoo!?\nSie erfahren\, wie Suchmaschinen funktionieren und wie sie von potentiellen Kunden verwendet werden\, welche Suchbegriffe relevant sind und wie Sie passende Keywords recherchieren.\n\nWebsite-Optimierung\nSowohl On-Page als auch Off-Page stehen Ihnen zahlreiche Maßnahmen zur Verbesserung Ihrer Suchmaschinenposition zur Verfügung. Die Wichtigsten davon\, beispielsweise was bei der Erstellung und Verbreitung von Content zu beachten ist\, werden Ihnen im Einsteigerseminar vorgestellt.\n\nSocial Media und Location Based Services\nSoziale Netzwerke gehören mittlerweile zum Alltag und bieten Unternehmen die Möglichkeit\, effektiv Aufmerksamkeit für das eigene Angebot zu generieren. Auch die lokale Suche spielt eine wachsende Rolle – deshalb erfahren Sie in diesem Kurs auch\, worauf Sie bei Ihrem Unternehmensauftritt in sozialen Netzwerken achten sollten.\n\nAußerdem: Aktuelle Entwicklungen und SEO Tipps\nIm Workshop lernen Sie weitere aktuelle Entwicklungen und Trends kennen und erhalten Tipps\, wie Sie diese für sich nutzen und mit welchen SEO-Tools Sie noch wirkungsvoller arbeiten.\n\n					\n\n	\n		Preis\n		\n			\n				\n					\n						EUR490\n					\n					1 Tag\n				\n			\n\n			\n				\n\nIhr Platz\nSeminarunterlagen\nKaffeepausen\n\n			\n			\n				490 				Bestellen			\n		\n	\n\n		\n							\n						\n				Jetzt SEO Seminar Platz bestellen			\n			\n					\n	[contact-form-7 id=““ title=“KOSTENLOSE BERATUNG HOMEPAGE“] \n[/contact-form-7]\n		\n							\n						\n				Zukünftige Seminare			\n			\n					\n	\n	What's Next\n		\n		View Full Timetable and Book →\n	\n\n\n\n\n		\n							\n						\n				PromoMasters Wien
URL:https://www.kohlfuerst.at/veranstaltung/suchmaschinenoptimierung/
LOCATION:Salzburg
ATTACH;FMTTYPE=image/png:https://www.kohlfuerst.at/wp-content/uploads/2016/10/kohlfuerst-logo.png
ORGANIZER;CN="PromoMasters Online Marketing":MAILTO:info@promomasters.at
END:VEVENT
BEGIN:VEVENT
DTSTART;TZID=Europe/Vienna:20221021T090000
DTEND;TZID=Europe/Vienna:20221021T120000
DTSTAMP:20260422T141725
CREATED:20211218T114056Z
LAST-MODIFIED:20211218T115444Z
UID:9829-1666342800-1666353600@www.kohlfuerst.at
SUMMARY:Google Analytics Seminar
DESCRIPTION:Das Google Analytics Seminar für Einsteiger\, die wissen wollen\, wie sie ihre Statistiken verstehen und kontrollieren können. Ihr Vortragender ist ein langjähriger Google Analytics Experte mit Google Zertifizierung für Premium Agenturen.  \nInhalt des Seminares \n\nDas alles können Sie mit Google Analytics\nDiese Informationen zeigt die Google Search Console\nSo aktivieren Sie Ihre Google Tools und verwalten Benutzer\nDiese Antworten gibt Ihnen die Google Analytics Statistik\n\n\nSo erstellen Sie Filter und Ziele zur Erfolgsmessung\nPersönliche Berichte für sich und andere erstellen und versenden\nGoogle AdWords Kampagnen Erfolge mit Analytics messen\nIhre Fragen & Antworten\n\nSichern Sie nun Ihren Seminar Platz.\n\n		\n							\n						\n				\nMehr Informationen zum Seminar			\n			\n					\n	\nAnalytics für Content \nErkennen Sie mithilfe der Content-Berichte von Google Analytics die Top-Inhalte Ihrer Website. Informieren Sie sich darüber\, wie oft Besucher die einzelnen Seiten der Website besuchen\, wie lange sie sich dort aufhalten und wie oft Conversions stattfinden. Alle Berichte befinden sich im Abschnitt „Content“.\n\n		\n							\n						\n				\nSeminar Termine			\n			\n					\n	\nMontag\, 02. Oktober 2022 von 09:00 bis 12:00 Uhr in Salzburg. Im Anschluss an das Seminar nehmen wir uns gerne eine Stunde Zeit\, um Ihre direkten Anliegen aus dem Bereich zu besprechen.\n\n		\n							\n						\n				Jetzt Ihren Seminar Platz sichern			\n			\n					\n	[contact-form-7 id=““ title=“BESTELLUNG SEMINAR“] \n[/contact-form-7]\n\n	\n		Preis\n		\n			\n				\n					\n						€299\n					\n					½ Tag\n				\n			\n\n			\n				\n\nIhr reservierter Platz\nSeminarunterlagen\nKaffeepausen\n\n			\n			\n				299 				Bestellen			\n		\n	\n\n		\n							\n						\n				PromoMasters Online Marketing - Salzburg
URL:https://www.kohlfuerst.at/veranstaltung/analytics-seminar/
LOCATION:PromoMasters Salzburg\, Urstein Süd 15\, Puch\, Salzburg\, 5412\, Österreich
ATTACH;FMTTYPE=image/png:https://www.kohlfuerst.at/wp-content/uploads/2016/10/google-analytics-icon.png
ORGANIZER;CN="PromoMasters Online Marketing":MAILTO:info@promomasters.at
END:VEVENT
END:VCALENDAR