BEGIN:VCALENDAR
VERSION:2.0
PRODID:-//KOHLFÜRST Online Marketing - ECPv6.15.20//NONSGML v1.0//EN
CALSCALE:GREGORIAN
METHOD:PUBLISH
X-WR-CALNAME:KOHLFÜRST Online Marketing
X-ORIGINAL-URL:https://www.kohlfuerst.at
X-WR-CALDESC:Veranstaltungen für KOHLFÜRST Online Marketing
REFRESH-INTERVAL;VALUE=DURATION:PT1H
X-Robots-Tag:noindex
X-PUBLISHED-TTL:PT1H
BEGIN:VTIMEZONE
TZID:Europe/Vienna
BEGIN:DAYLIGHT
TZOFFSETFROM:+0100
TZOFFSETTO:+0200
TZNAME:CEST
DTSTART:20250330T010000
END:DAYLIGHT
BEGIN:STANDARD
TZOFFSETFROM:+0200
TZOFFSETTO:+0100
TZNAME:CET
DTSTART:20251026T010000
END:STANDARD
BEGIN:DAYLIGHT
TZOFFSETFROM:+0100
TZOFFSETTO:+0200
TZNAME:CEST
DTSTART:20260329T010000
END:DAYLIGHT
BEGIN:STANDARD
TZOFFSETFROM:+0200
TZOFFSETTO:+0100
TZNAME:CET
DTSTART:20261025T010000
END:STANDARD
BEGIN:DAYLIGHT
TZOFFSETFROM:+0100
TZOFFSETTO:+0200
TZNAME:CEST
DTSTART:20270328T010000
END:DAYLIGHT
BEGIN:STANDARD
TZOFFSETFROM:+0200
TZOFFSETTO:+0100
TZNAME:CET
DTSTART:20271031T010000
END:STANDARD
END:VTIMEZONE
BEGIN:VEVENT
DTSTART;TZID=Europe/Vienna:20260423T090000
DTEND;TZID=Europe/Vienna:20260423T210000
DTSTAMP:20260422T124906
CREATED:20230201T153158Z
LAST-MODIFIED:20260404T100519Z
UID:11507-1776934800-1776978000@www.kohlfuerst.at
SUMMARY:ART of Recruiting | #aor2026 | HR + Personalmarketing Konferenz
DESCRIPTION:ART of Recruiting - Personalmarketing & HR Event			\n			\n					\n	\nArt of Recruiting – die Kunst des Personalmarketing \nDie richtigen Mitarbeiter finden\, halten und sich als Arbeitgeber positiv zu positionieren und etablieren. \nWie das funktioniert\, welche Schritte gesetzt werden müssen\, welche Maßnahmen nachhaltig und langfristig umgesetzt werden sollten\, erlernen Sie in der für Sie maßgeschneiderten Veranstaltung „ART of Recruiting“. \nDie AOR 2026 findet am 23. April in Salzburg statt. Tickets können ab sofort gebucht werden. Die Teilnehmer Anzahl ist beschränkt für dieses Personalmarketing Event für HR-Verantwortliche. \nMehr Info & Buchung: www.art-of-recruiting.com\n		\n							\n						\n				Kavalierhaus Klessheim - Eventclocation Salzburg
URL:https://www.kohlfuerst.at/veranstaltung/art-of-recruiting/
LOCATION:Kavalierhaus Salzburg\, Kleßheim 2\, Salzburg\, 5071\, Austria
ATTACH;FMTTYPE=image/jpeg:https://www.kohlfuerst.at/wp-content/uploads/art-of-recruiting.jpg
ORGANIZER;CN="Salzburger Nachrichten":MAILTO:thomas.ritter@sn.at
END:VEVENT
BEGIN:VEVENT
DTSTART;TZID=Europe/Vienna:20261021T090000
DTEND;TZID=Europe/Vienna:20261021T120000
DTSTAMP:20260422T124906
CREATED:20260404T102524Z
LAST-MODIFIED:20260404T104410Z
UID:11871-1792573200-1792584000@www.kohlfuerst.at
SUMMARY:Workshops & Beratung
DESCRIPTION:Workshops und Beratung mit Andrea Starzer und Michael Kohlfürst zu Themen wie GEO SEO\, Personalmarketing sowie Google Ads und LinkedIn.
URL:https://www.kohlfuerst.at/veranstaltung/workshops/
LOCATION:PromoMasters Salzburg\, Urstein Süd 15\, Puch\, Salzburg\, 5412\, Österreich
ATTACH;FMTTYPE=image/jpeg:https://www.kohlfuerst.at/wp-content/uploads/michael-kohlfuerst-grau-sliderersatz2.jpg
ORGANIZER;CN="PromoMasters Online Marketing":MAILTO:info@promomasters.at
END:VEVENT
END:VCALENDAR